BEGIN:VCALENDAR
VERSION:2.0
PRODID:-//St James&#039;, Stonehaven - ECPv6.7.0//NONSGML v1.0//EN
CALSCALE:GREGORIAN
METHOD:PUBLISH
X-ORIGINAL-URL:https://www.stjames-stonehaven.org.uk
X-WR-CALDESC:Events for St James&#039;, Stonehaven
REFRESH-INTERVAL;VALUE=DURATION:PT1H
X-Robots-Tag:noindex
X-PUBLISHED-TTL:PT1H
BEGIN:VTIMEZONE
TZID:UTC
BEGIN:STANDARD
TZOFFSETFROM:+0000
TZOFFSETTO:+0000
TZNAME:UTC
DTSTART:20250101T000000
END:STANDARD
END:VTIMEZONE
BEGIN:VEVENT
DTSTART;VALUE=DATE:20250607
DTEND;VALUE=DATE:20250608
DTSTAMP:20260413T221807
CREATED:20250404T113320Z
LAST-MODIFIED:20250404T113320Z
UID:16348-1749254400-1749340799@www.stjames-stonehaven.org.uk
SUMMARY:Feein' Market
DESCRIPTION:
URL:https://www.stjames-stonehaven.org.uk/event/feein-market-3/
END:VEVENT
END:VCALENDAR