BEGIN:VCALENDAR
VERSION:2.0
PRODID:-//St James&#039;, Stonehaven - ECPv6.7.0//NONSGML v1.0//EN
CALSCALE:GREGORIAN
METHOD:PUBLISH
X-ORIGINAL-URL:https://www.stjames-stonehaven.org.uk
X-WR-CALDESC:Events for St James&#039;, Stonehaven
REFRESH-INTERVAL;VALUE=DURATION:PT1H
X-Robots-Tag:noindex
X-PUBLISHED-TTL:PT1H
BEGIN:VTIMEZONE
TZID:UTC
BEGIN:STANDARD
TZOFFSETFROM:+0000
TZOFFSETTO:+0000
TZNAME:UTC
DTSTART:20250101T000000
END:STANDARD
END:VTIMEZONE
BEGIN:VEVENT
DTSTART;TZID=UTC:20250518T190000
DTEND;TZID=UTC:20250518T210000
DTSTAMP:20260418T194541
CREATED:20250404T112930Z
LAST-MODIFIED:20250404T112930Z
UID:16343-1747594800-1747602000@www.stjames-stonehaven.org.uk
SUMMARY:Granite City Brass Band
DESCRIPTION:
URL:https://www.stjames-stonehaven.org.uk/event/granite-city-brass-band-2/
LOCATION:Church
END:VEVENT
BEGIN:VEVENT
DTSTART;TZID=UTC:20250525T190000
DTEND;TZID=UTC:20250525T210000
DTSTAMP:20260418T194541
CREATED:20250404T113129Z
LAST-MODIFIED:20250404T113129Z
UID:16346-1748199600-1748206800@www.stjames-stonehaven.org.uk
SUMMARY:Stonehaven Chorus
DESCRIPTION:
URL:https://www.stjames-stonehaven.org.uk/event/stonehaven-chorus/
LOCATION:Church
END:VEVENT
BEGIN:VEVENT
DTSTART;VALUE=DATE:20250607
DTEND;VALUE=DATE:20250608
DTSTAMP:20260418T194541
CREATED:20250404T113320Z
LAST-MODIFIED:20250404T113320Z
UID:16348-1749254400-1749340799@www.stjames-stonehaven.org.uk
SUMMARY:Feein' Market
DESCRIPTION:
URL:https://www.stjames-stonehaven.org.uk/event/feein-market-3/
END:VEVENT
BEGIN:VEVENT
DTSTART;TZID=UTC:20250621T190000
DTEND;TZID=UTC:20250621T210000
DTSTAMP:20260418T194541
CREATED:20250404T113509Z
LAST-MODIFIED:20250404T113509Z
UID:16350-1750532400-1750539600@www.stjames-stonehaven.org.uk
SUMMARY:Rock Choir Concert
DESCRIPTION:
URL:https://www.stjames-stonehaven.org.uk/event/rock-choir-concert-4/
LOCATION:Church
END:VEVENT
BEGIN:VEVENT
DTSTART;TZID=UTC:20250706T190000
DTEND;TZID=UTC:20250706T210000
DTSTAMP:20260418T194541
CREATED:20250224T122449Z
LAST-MODIFIED:20250224T122449Z
UID:16331-1751828400-1751835600@www.stjames-stonehaven.org.uk
SUMMARY:MEARNS SINGERS
DESCRIPTION:Entry by donation. Tea\, coffee and biscuits will be served.
URL:https://www.stjames-stonehaven.org.uk/event/mearns-singers/
LOCATION:Church
END:VEVENT
BEGIN:VEVENT
DTSTART;TZID=UTC:20250920T100000
DTEND;TZID=UTC:20250920T120000
DTSTAMP:20260418T194541
CREATED:20250902T132122Z
LAST-MODIFIED:20250902T132122Z
UID:16367-1758362400-1758369600@www.stjames-stonehaven.org.uk
SUMMARY:COFFEE MORNING
DESCRIPTION:
URL:https://www.stjames-stonehaven.org.uk/event/coffee-morning-2/
LOCATION:Church Hall
END:VEVENT
BEGIN:VEVENT
DTSTART;TZID=UTC:20250921T140000
DTEND;TZID=UTC:20250921T160000
DTSTAMP:20260418T194541
CREATED:20250902T132322Z
LAST-MODIFIED:20250902T132322Z
UID:16369-1758463200-1758470400@www.stjames-stonehaven.org.uk
SUMMARY:SINGALONG CONCERT
DESCRIPTION:
URL:https://www.stjames-stonehaven.org.uk/event/singalong-concert/
LOCATION:Church
END:VEVENT
BEGIN:VEVENT
DTSTART;TZID=UTC:20251122T190000
DTEND;TZID=UTC:20251122T210000
DTSTAMP:20260418T194541
CREATED:20250902T132450Z
LAST-MODIFIED:20250902T132450Z
UID:16372-1763838000-1763845200@www.stjames-stonehaven.org.uk
SUMMARY:ROCK CHOIR CONCERT
DESCRIPTION:
URL:https://www.stjames-stonehaven.org.uk/event/rock-choir-concert-5/
LOCATION:Church
END:VEVENT
BEGIN:VEVENT
DTSTART;TZID=UTC:20251206T100000
DTEND;TZID=UTC:20251206T130000
DTSTAMP:20260418T194541
CREATED:20251127T142536Z
LAST-MODIFIED:20251127T142536Z
UID:16391-1765015200-1765026000@www.stjames-stonehaven.org.uk
SUMMARY:Christmas Coffee Morning
DESCRIPTION:
URL:https://www.stjames-stonehaven.org.uk/event/christmas-coffee-morning-2/
LOCATION:Church Hall
END:VEVENT
END:VCALENDAR