BEGIN:VCALENDAR
VERSION:2.0
PRODID:-//St James&#039;, Stonehaven - ECPv6.7.0//NONSGML v1.0//EN
CALSCALE:GREGORIAN
METHOD:PUBLISH
X-WR-CALNAME:St James&#039;, Stonehaven
X-ORIGINAL-URL:https://www.stjames-stonehaven.org.uk
X-WR-CALDESC:Events for St James&#039;, Stonehaven
REFRESH-INTERVAL;VALUE=DURATION:PT1H
X-Robots-Tag:noindex
X-PUBLISHED-TTL:PT1H
BEGIN:VTIMEZONE
TZID:UTC
BEGIN:STANDARD
TZOFFSETFROM:+0000
TZOFFSETTO:+0000
TZNAME:UTC
DTSTART:20250101T000000
END:STANDARD
END:VTIMEZONE
BEGIN:VEVENT
DTSTART;TZID=UTC:20250405T100000
DTEND;TZID=UTC:20250405T123000
DTSTAMP:20260413T222142
CREATED:20250219T092147Z
LAST-MODIFIED:20250219T092147Z
UID:16324-1743847200-1743856200@www.stjames-stonehaven.org.uk
SUMMARY:SPRING COFFEE MORNING
DESCRIPTION:
URL:https://www.stjames-stonehaven.org.uk/event/spring-coffee-morning-3/
LOCATION:Church Hall
END:VEVENT
END:VCALENDAR